BEGIN:VCALENDAR
VERSION:2.0
PRODID:-//hacksw/handcal//NONSGML v1.0//EN
CALSCALE:GREGORIAN
BEGIN:VEVENT
DTSTART:20091110T084500Z
DTEND:20091110T100000Z
UID:e8579
DTSTAMP:20260422T080241Z
LOCATION:
DESCRIPTION:Joint High Energy Physics Seminar
SUMMARY:Joint High Energy Physics Seminar
END:VEVENT
END:VCALENDAR