BEGIN:VCALENDAR
VERSION:2.0
PRODID:-//hacksw/handcal//NONSGML v1.0//EN
CALSCALE:GREGORIAN
BEGIN:VEVENT
DTSTART:20091224T080000Z
DTEND:20091224T080000Z
UID:e8811
DTSTAMP:20260420T215309Z
LOCATION:Gerhard M.J. Schmidt Lecture Hall
DESCRIPTION:Experimental Optimization in Quantum Control: The Algorithmic Perspective
SUMMARY:Experimental Optimization in Quantum Control: The Algorithmic Perspective
END:VEVENT
END:VCALENDAR