BEGIN:VCALENDAR
VERSION:2.0
PRODID:-//hacksw/handcal//NONSGML v1.0//EN
CALSCALE:GREGORIAN
BEGIN:VEVENT
DTSTART:20100131T073000Z
DTEND:20100131T080000Z
UID:e9051
DTSTAMP:20260421T182419Z
LOCATION:Dolfi and Lola Ebner Auditorium
DESCRIPTION:Sensing of force and rigidity by protein unfolding
SUMMARY:Sensing of force and rigidity by protein unfolding
END:VEVENT
END:VCALENDAR