BEGIN:VCALENDAR
VERSION:2.0
PRODID:-//hacksw/handcal//NONSGML v1.0//EN
CALSCALE:GREGORIAN
BEGIN:VEVENT
DTSTART:20100317T100000Z
DTEND:20100317T100000Z
UID:e9137
DTSTAMP:20260422T205657Z
LOCATION:Arthur and Rochelle Belfer Building for Biomedical Research
DESCRIPTION:Functional genomic screen of breast epithelial-to-mesenchymal polarity and breast stem cell renewal
SUMMARY:Functional genomic screen of breast epithelial-to-mesenchymal polarity and breast stem cell renewal
END:VEVENT
END:VCALENDAR