BEGIN:VCALENDAR
VERSION:2.0
PRODID:-//hacksw/handcal//NONSGML v1.0//EN
CALSCALE:GREGORIAN
BEGIN:VEVENT
DTSTART:20100307T093000Z
DTEND:20100307T093000Z
UID:e9141
DTSTAMP:20260423T125528Z
LOCATION:
DESCRIPTION:Music at Noon - "Nomai Concept" Group
SUMMARY:Music at Noon - "Nomai Concept" Group
END:VEVENT
END:VCALENDAR