BEGIN:VCALENDAR
VERSION:2.0
PRODID:-//hacksw/handcal//NONSGML v1.0//EN
CALSCALE:GREGORIAN
BEGIN:VEVENT
DTSTART:20100324T173000Z
DTEND:20100324T173000Z
UID:e9153
DTSTAMP:20260423T053800Z
LOCATION:
DESCRIPTION:"Bach is Smiling" - Israel Camerata Jerusalem
SUMMARY:"Bach is Smiling" - Israel Camerata Jerusalem
END:VEVENT
END:VCALENDAR