BEGIN:VCALENDAR
VERSION:2.0
PRODID:-//hacksw/handcal//NONSGML v1.0//EN
CALSCALE:GREGORIAN
BEGIN:VEVENT
DTSTART:20100511T103000Z
DTEND:20100511T103000Z
UID:e9193
DTSTAMP:20260420T175459Z
LOCATION:Wolfson Building for Biological Research
DESCRIPTION:The cellular and molecular mechanisms of lymphoid organ development in health and disease
SUMMARY:The cellular and molecular mechanisms of lymphoid organ development in health and disease
END:VEVENT
END:VCALENDAR