BEGIN:VCALENDAR
VERSION:2.0
PRODID:-//hacksw/handcal//NONSGML v1.0//EN
CALSCALE:GREGORIAN
BEGIN:VEVENT
DTSTART:20100628T080000Z
DTEND:20100628T100000Z
UID:e9203
DTSTAMP:20260422T043042Z
LOCATION:Wolfson Building for Biological Research
DESCRIPTION:Allelic exclusion in the immune system
SUMMARY:Allelic exclusion in the immune system
END:VEVENT
END:VCALENDAR