BEGIN:VCALENDAR
VERSION:2.0
PRODID:-//hacksw/handcal//NONSGML v1.0//EN
CALSCALE:GREGORIAN
BEGIN:VEVENT
DTSTART:20100222T110000Z
DTEND:20100222T150000Z
UID:e9241
DTSTAMP:20260421T010119Z
LOCATION:Edna and K.B. Weissman Building of Physical Sciences
DESCRIPTION:New developments in Nuclear Structure Theory
SUMMARY:New developments in Nuclear Structure Theory
END:VEVENT
END:VCALENDAR