BEGIN:VCALENDAR
VERSION:2.0
PRODID:-//hacksw/handcal//NONSGML v1.0//EN
CALSCALE:GREGORIAN
BEGIN:VEVENT
DTSTART:20100428T060000Z
DTEND:20100428T180000Z
UID:e9335
DTSTAMP:20260421T145618Z
LOCATION:
DESCRIPTION:Life Science Open Day 2010
SUMMARY:Life Science Open Day 2010
END:VEVENT
END:VCALENDAR