BEGIN:VCALENDAR
VERSION:2.0
PRODID:-//hacksw/handcal//NONSGML v1.0//EN
CALSCALE:GREGORIAN
BEGIN:VEVENT
DTSTART:20100411T103000Z
DTEND:20100411T103000Z
UID:e9349
DTSTAMP:20260420T071655Z
LOCATION:Wolfson Building for Biological Research
DESCRIPTION:"Exploring the Immune System Using Movie-making and Computational Modeling"
SUMMARY:"Exploring the Immune System Using Movie-making and Computational Modeling"
END:VEVENT
END:VCALENDAR