BEGIN:VCALENDAR
VERSION:2.0
PRODID:-//hacksw/handcal//NONSGML v1.0//EN
CALSCALE:GREGORIAN
BEGIN:VEVENT
DTSTART:20100315T111500Z
DTEND:20100315T123000Z
UID:e9361
DTSTAMP:20260419T214341Z
LOCATION:Edna and K.B. Weissman Building of Physical Sciences
DESCRIPTION:Statistical Physics Seminar
SUMMARY:Statistical Physics Seminar
END:VEVENT
END:VCALENDAR