BEGIN:VCALENDAR
VERSION:2.0
PRODID:-//hacksw/handcal//NONSGML v1.0//EN
CALSCALE:GREGORIAN
BEGIN:VEVENT
DTSTART:20100323T121500Z
DTEND:20100323T121500Z
UID:e9383
DTSTAMP:20260421T153622Z
LOCATION:
DESCRIPTION:Aharonov - Bohm conductance through a single-channel quantum ring (with an extensive introduction)
SUMMARY:Aharonov - Bohm conductance through a single-channel quantum ring (with an extensive introduction)
END:VEVENT
END:VCALENDAR