BEGIN:VCALENDAR
VERSION:2.0
PRODID:-//hacksw/handcal//NONSGML v1.0//EN
CALSCALE:GREGORIAN
BEGIN:VEVENT
DTSTART:20100425T080000Z
DTEND:20100425T080000Z
UID:e9393
DTSTAMP:20260420T123111Z
LOCATION:Sussman Family Building for Environmental Sciences
DESCRIPTION:Aerosol effects on Clouds and Precipitation: Buffered states\, runaway states\, and self-organization
SUMMARY:Aerosol effects on Clouds and Precipitation: Buffered states\, runaway states\, and self-organization
END:VEVENT
END:VCALENDAR