BEGIN:VCALENDAR
VERSION:2.0
PRODID:-//hacksw/handcal//NONSGML v1.0//EN
CALSCALE:GREGORIAN
BEGIN:VEVENT
DTSTART:20100412T130000Z
DTEND:20100412T130000Z
UID:e9417
DTSTAMP:20260421T215034Z
LOCATION:Arthur and Rochelle Belfer Building for Biomedical Research
DESCRIPTION:Glucocorticoids\, enzymes and cognitive ageing
SUMMARY:Glucocorticoids\, enzymes and cognitive ageing
END:VEVENT
END:VCALENDAR