BEGIN:VCALENDAR
VERSION:2.0
PRODID:-//hacksw/handcal//NONSGML v1.0//EN
CALSCALE:GREGORIAN
BEGIN:VEVENT
DTSTART:20100422T120000Z
DTEND:20100422T120000Z
UID:e9473
DTSTAMP:20260422T033249Z
LOCATION:
DESCRIPTION:Decoherence in charged q-bits: Interacting resonant levels
SUMMARY:Decoherence in charged q-bits: Interacting resonant levels
END:VEVENT
END:VCALENDAR