BEGIN:VCALENDAR
VERSION:2.0
PRODID:-//hacksw/handcal//NONSGML v1.0//EN
CALSCALE:GREGORIAN
BEGIN:VEVENT
DTSTART:20100524T080000Z
DTEND:20100524T090000Z
UID:e9585
DTSTAMP:20260421T075939Z
LOCATION:Gerhard M.J. Schmidt Lecture Hall
DESCRIPTION:Faculty fo Chemistry Colloquium - Prof. Siegel
SUMMARY:Faculty fo Chemistry Colloquium - Prof. Siegel
END:VEVENT
END:VCALENDAR