BEGIN:VCALENDAR
VERSION:2.0
PRODID:-//hacksw/handcal//NONSGML v1.0//EN
CALSCALE:GREGORIAN
BEGIN:VEVENT
DTSTART:20100627T080000Z
DTEND:20100627T080000Z
UID:e9647
DTSTAMP:20260421T134147Z
LOCATION:Sussman Family Building for Environmental Sciences
DESCRIPTION:"A look on the future of clouds and aerosols measurements"
SUMMARY:"A look on the future of clouds and aerosols measurements"
END:VEVENT
END:VCALENDAR