BEGIN:VCALENDAR
VERSION:2.0
PRODID:-//hacksw/handcal//NONSGML v1.0//EN
CALSCALE:GREGORIAN
BEGIN:VEVENT
DTSTART:20101115T063000Z
DTEND:20101115T073000Z
UID:e9661
DTSTAMP:20260421T143020Z
LOCATION:Gerhard M.J. Schmidt Lecture Hall
DESCRIPTION:2nd International BIOmics Workshop & Conference
SUMMARY:2nd International BIOmics Workshop & Conference
END:VEVENT
END:VCALENDAR