BEGIN:VCALENDAR
VERSION:2.0
PRODID:-//hacksw/handcal//NONSGML v1.0//EN
CALSCALE:GREGORIAN
BEGIN:VEVENT
DTSTART:20100905T113000Z
DTEND:20100905T130000Z
UID:e9755
DTSTAMP:20260422T014654Z
LOCATION:Dolfi and Lola Ebner Auditorium
DESCRIPTION:2010 Sir John C. Kendrew Memorial Lecture: title will be advised shortly
SUMMARY:2010 Sir John C. Kendrew Memorial Lecture: title will be advised shortly
END:VEVENT
END:VCALENDAR