BEGIN:VCALENDAR
VERSION:2.0
PRODID:-//hacksw/handcal//NONSGML v1.0//EN
CALSCALE:GREGORIAN
BEGIN:VEVENT
DTSTART:20110328T050000Z
DTEND:20110401T170000Z
UID:e9796
DTSTAMP:20260422T043257Z
LOCATION:
DESCRIPTION:FRISNO 11 - Aussois\, the French Alps\, March 28 &#8211\; April 1\, 2011
SUMMARY:FRISNO 11 - Aussois\, the French Alps\, March 28 &#8211\; April 1\, 2011
END:VEVENT
END:VCALENDAR