BEGIN:VCALENDAR
VERSION:2.0
PRODID:-//hacksw/handcal//NONSGML v1.0//EN
CALSCALE:GREGORIAN
BEGIN:VEVENT
DTSTART:20110227T100000Z
DTEND:20110227T100000Z
UID:e9858
DTSTAMP:20260423T095434Z
LOCATION:Arthur and Rochelle Belfer Building for Biomedical Research
DESCRIPTION:The emerging role of chromatin structure in cell migration
SUMMARY:The emerging role of chromatin structure in cell migration
END:VEVENT
END:VCALENDAR