BEGIN:VCALENDAR
VERSION:2.0
PRODID:-//hacksw/handcal//NONSGML v1.0//EN
CALSCALE:GREGORIAN
BEGIN:VEVENT
DTSTART:20101223T120000Z
DTEND:20101223T120000Z
UID:e9906
DTSTAMP:20260421T172924Z
LOCATION:Dolfi and Lola Ebner Auditorium
DESCRIPTION:From Proteins and their Models to Therapy of Autoimmunity and Cancer
SUMMARY:From Proteins and their Models to Therapy of Autoimmunity and Cancer
END:VEVENT
END:VCALENDAR