BEGIN:VCALENDAR
VERSION:2.0
PRODID:-//hacksw/handcal//NONSGML v1.0//EN
CALSCALE:GREGORIAN
BEGIN:VEVENT
DTSTART:20101028T060000Z
DTEND:20101029T130000Z
UID:e9924
DTSTAMP:20260420T102728Z
LOCATION:
DESCRIPTION:Experimental Hydrodynamics: From Superfluids and Pattern Formation toSoft Matter Hydrodynamics
SUMMARY:Experimental Hydrodynamics: From Superfluids and Pattern Formation toSoft Matter Hydrodynamics
END:VEVENT
END:VCALENDAR