BEGIN:VCALENDAR
VERSION:2.0
PRODID:-//hacksw/handcal//NONSGML v1.0//EN
CALSCALE:GREGORIAN
BEGIN:VEVENT
DTSTART:19691231T160000Z
DTEND:19691231T160000Z
UID:e9954
DTSTAMP:20260422T005809Z
LOCATION:
DESCRIPTION:Minerva Fellowships Committee annual meeting 
SUMMARY:Minerva Fellowships Committee annual meeting 
END:VEVENT
END:VCALENDAR