BEGIN:VCALENDAR
VERSION:2.0
PRODID:-//hacksw/handcal//NONSGML v1.0//EN
CALSCALE:GREGORIAN
BEGIN:VEVENT
DTSTART:20101130T073000Z
DTEND:20101130T083000Z
UID:e9960
DTSTAMP:20260423T084521Z
LOCATION:
DESCRIPTION:Baryonic symmetries in AdS_4/CFT_3
SUMMARY:Baryonic symmetries in AdS_4/CFT_3
END:VEVENT
END:VCALENDAR