BEGIN:VCALENDAR
VERSION:2.0
BEGIN:VEVENT
DTSTART:20250316T110000
DTEND:20250316T120000
SUMMARY:The Holocene temperature and CO2 conundrum: a long-term perspective from earlier interglacials
DESCRIPTION:<p>The pre-industrial Holocene is unique among past</p><p>interglacials due to a modest, but notable increase in</p><p>atmospheric CO2 and methane (CH4) during the latter half</p><p>of the period despite an expected decrease given orbital</p><p>parameters. Although the causes for this increase,</p><p>anthropogenic or natural are debated, all climate models</p><p>simulate an increase in global mean temperature in</p><p>response to the increase in the greenhouse gases. Yet,</p><p>many proxy reconstructions, interpreted to reflect the</p><p>mean annual temperatures, indicate peak temperatures in</p><p>the first half of the Holocene, arguably exceeding modern</p><p>mean annual temperatures followed by cooling through the</p><p>preindustrial period. This significant model-data</p><p>discrepancy, known as the Holocene temperature</p><p>conundrum, and the debate on the cause of the CO2</p><p>increase has undermined confidence in future climate</p><p>model predications. In this talk I’ll offer new perspectives</p><p>on both issues.</p>
LOCATION:
TRANSP:OPAQUE
URL:https://www.weizmann.ac.il/EPS/events
END:VEVENT
END:VCALENDAR