BEGIN:VCALENDAR
VERSION:2.0
BEGIN:VEVENT
DTSTART:20251028T113000
DTEND:20251028T123000
SUMMARY:EPS AI discussion: Floods and Droughts Forecasting
DESCRIPTION:<p>Natural disasters like floods and droughts pose significant threats to communities worldwide, making accurate and timely forecasting essential for mitigation and response. This presentation will delve into the development and implementation of AI-based models for natural disaster forecasting, with a specific focus on floods and droughts.</p><p>We will explore Google's machine learning-driven hydrologic model for riverine flood forecasting, which has been operational for several years and provides predictions up to seven days in advance. Additionally, we will discuss a flash flood model currently in development. The talk will also cover a machine learning model for drought forecasting, which provides predictions at a three-month lead time.</p><p>A key focus of this discussion will be the robust evaluation of these models. We'll examine various methods for assessing their skill, including comparisons against historical data, satellite observations, and established performance benchmarks across different regions. This presentation will highlight how advanced AI can enhance our ability to predict and prepare for natural disasters, ultimately supporting global resilience efforts.</p><p><br></p><p><br></p>
LOCATION:
TRANSP:OPAQUE
URL:https://www.weizmann.ac.il/EPS/events
END:VEVENT
END:VCALENDAR