BEGIN:VCALENDAR
VERSION:2.0
BEGIN:VEVENT
DTSTART:20250624T113000
DTEND:20250624T123000
SUMMARY:EPS AI discussion: Super Resolution technology for Satellite multispectral long waves imagery for environmental monitoring with emphasis on uncooled FPA.
DESCRIPTION:<p>Scientific background: Longwave Multispectral (MS) infra-red (IR) imaging from satellites is</p><p>important in many environment/agriculture monitoring tasks; however, it is limited to a</p><p>coarse spatial resolution in the range of 100 [m] to 1000 [m], which does not allow observing</p><p>fields details. Super Resolution methods to support multispectral acquired by satellites, e.g.,</p><p>Spatial resolution of earth observing in the longwave 8-12 micron, thermal infra-red is</p><p>significantly lagged behind the visible range. Recently, a swarm of nanosatellites (1-10 kg) has</p><p>been used to achieve a high spatial resolution. While this technology shows outstanding</p><p>spatial resolution of only a few meters, it is currently carried only in visible and Near Infra-Red</p><p>cameras. Thus, equipping nanosatellites with longwave imagery and improving their relatively</p><p>low spatial resolution is an important challenge.</p><p><br></p>
LOCATION:
TRANSP:OPAQUE
URL:https://www.weizmann.ac.il/EPS/events
END:VEVENT
END:VCALENDAR