BEGIN:VCALENDAR
VERSION:2.0
BEGIN:VEVENT
DTSTART:20250527T150000
DTEND:20250527T160000
SUMMARY:EPS AI discussion: Geospatial AI Foundation Models
DESCRIPTION:<p>In recent years, the landscape of artificial intelligence (AI) has been reshaped by the rapid emergence of Foundation Models (FMs). These versatile models have garnered widespread attention for their remarkable ability to transcend the boundaries of traditional, bespoke AI solutions and to generalize to a large set of downstream tasks.   In this presentation we will describe the development of geospatial FMs with earth observation and weather data and discuss the initial results of such models when fine-tuned to various applications including flood detection, CO2 monitoring, nature-based carbon sequestration. We will also show how such foundation models can be a new and exciting tool for assisting and accelerating scientific discovery.</p>
LOCATION:
TRANSP:OPAQUE
URL:https://www.weizmann.ac.il/EPS/events
END:VEVENT
END:VCALENDAR