BEGIN:VCALENDAR
VERSION:2.0
BEGIN:VEVENT
DTSTART:20260203T113000
DTEND:20260203T123000
SUMMARY:Deep Learning-Based Detection of Sinkhole-Induced Land Subsidence Along the Dead Sea
DESCRIPTION:<p>The Dead Sea region has seen a rapid increase in sinkhole formation, posing serious environmental and infrastructure risks. The Geological Survey of Israel monitors sinkhole-related land subsidence along the western shore using InSAR, but current detection relies on manual interpretation of interferometric phase data, which is time-consuming and error-prone.</p><p>In this talk, I present an AI-based Deep Learning framework for automated detection of sinkhole-related subsidence from InSAR data. The model learns interferometric phase deformation patterns, rather than visual features, and is trained using expert-labeled subsidence maps from years of operational monitoring. I demonstrate the model’s ability to generalize across spatial and temporal settings using multiple evaluation schemes and object-level performance metrics. Results show effective detection of subsidence areas, promising generalization to unseen regions, and the ability to reconstruct large-scale subsidence trends from patch-level predictions.</p><p></p>
LOCATION:
TRANSP:OPAQUE
URL:https://www.weizmann.ac.il/EPS/events
END:VEVENT
END:VCALENDAR