BEGIN:VCALENDAR
VERSION:2.0
BEGIN:VEVENT
DTSTART:20260208T110000
DTEND:20260208T120000
SUMMARY:Regional patterns of climate change
DESCRIPTION:<p>Climate change is a global phenomenon, yet its fingerprints vary</p><p>substantially across regions. This talk highlights a range of these</p><p>regional patterns using observational records and climate model</p><p>simulations, analyzed with machine learning and complementary</p><p>statistical tools.</p><p>The first part of the talk examines the magnitude of climate</p><p>change across temporal and spatial scales, showing how longterm</p><p>warming reshapes seasonal and diurnal temperature cycles</p><p>in different regions.</p><p>The second part examines how quickly climate mitigation signals</p><p>can be detected against regional climate variability, highlighting</p><p>where the effects of emission reductions are likely to emerge</p><p>sooner or later across the globe.</p><p>The final part of the talk addresses the question of climate</p><p>change acceleration. Despite rapidly increasing greenhouse gas</p><p>emissions, recent studies suggest that the global mean warming</p><p>rate remains linear. We revisit this issue by shifting the focus</p><p>from global averages to regional scales, where we detect</p><p>significant acceleration in warming across a substantial fraction</p><p>of the world.</p>
LOCATION:
TRANSP:OPAQUE
URL:https://www.weizmann.ac.il/EPS/events
END:VEVENT
END:VCALENDAR