BEGIN:VCALENDAR
VERSION:2.0
BEGIN:VEVENT
DTSTART:20260215T110000
DTEND:20260215T120000
SUMMARY:Static Green’s functions for subduction zone settings in the era of seafloor geodesy
DESCRIPTION:<p>After an earthquake occurs, slip models of the event may be estimated from geodetic observations. This process generally requires static coseismic Green's functions, which must be calculated via a forward model which includes an approximation of the material properties, topography, and fault geometry in the region of interest. Until recently, the lack of seafloor geodetic instrumentation and the use of unrealistically simple forward models have resulted in poor resolution of near-trench slip in subduction zone settings.&nbsp; In this talk, I will present an investigation into the effects of 3D structure, particularly topography, on forward models of earthquake deformation and on earthquake static slip estimates. I will show that models which neglect 3D structure yield inaccurate estimates of near-trench slip, particularly when seafloor geodetic data are utilized in the inversion.</p><p>&nbsp;</p>
LOCATION:
TRANSP:OPAQUE
URL:https://www.weizmann.ac.il/EPS/events
END:VEVENT
END:VCALENDAR