BEGIN:VCALENDAR
VERSION:2.0
PRODID:-//hacksw/handcal//NONSGML v1.0//EN
CALSCALE:GREGORIAN
BEGIN:VEVENT
DTSTART;TZID="Asia/Jerusalem":20260623T090000
DTEND;TZID="Asia/Jerusalem":20260623T090000
LOCATION:
DESCRIPTION:<p>הצטרפו אלינו ל&quot\;פעילות הדגל&quot\; השנתית של קהילת מורי הביולוגיה במכון ויצמן למדע. השנה\, אנו מזמינים אתכם ליום המשלב חדשנות פדגוגית\, השראה וגאוות יחידה.<br />
הכנס יפתח במושב מליאה מרתק עם פרופ&#39\; צחי הפלפל מהמחלקה לגנטיקה מולקולרית\, שיציג חידושים ועדכונים מסעירים בתחומי הגנטיקה והאפיגנטיקה לאור תוכנית הלימודים החדשה.<br />
<br />
במרכז היום יעמדו שמונה מושבים מדהימים של &quot\;ממורה למורה&quot\;. זוהי הזדמנות להיחשף ליוזמות יצירתיות מהשטח ולקבל כלים פרקטיים לשיפור ההוראה בכיתה. בין היתר\, תוכלו ליהנות מטעימות של נושאים כמו:<br />
&bull\;&nbsp\;&nbsp\; &nbsp\;AI בשירות המורה: שימוש בבינה מלאכותית לחיסכון בזמן ויצירת חומרי למידה.<br />
&bull\;&nbsp\;&nbsp\; &nbsp\;מישחוק בביולוגיה: חדרי בריחה\, אפליקציות ומשחקי קלפים אינטראקטיביים.<br />
&bull\;&nbsp\;&nbsp\; &nbsp\;&quot\;פיצוחים&quot\;: שיטות להוראת נושאים מורכבים.<br />
&bull\;&nbsp\;&nbsp\; &nbsp\;ביולוגיה בכותרות: חיבור חומר הלימוד לאקטואליה וחדשות בוערות.<br />
&bull\;&nbsp\;&nbsp\; &nbsp\;הוראה מחוץ לקופסה: ניסויים וחקר בחומרים זמינים ללא צורך בציוד מעבדה מורכב\, ועוד...<br />
<br />
בנוסף למושבים המקצועיים\, הכנס יכלול תערוכת חומרי הוראה וציוד מעבדה\, מפגש עם מפמ&quot\;ר ביולוגיה ד&quot\;ר אירית שדה\, וטקסי הוקרה למורים מצטיינים.&nbsp\;<br />
את היום נחתום בחוויה רב-תחומית יוצאת דופן: הרצאה מוזיקלית-מדעית של ד&quot\;ר יאיר פוזניאק: &quot\;כשדרווין פוגש את לנון&quot\;.<br />
נפגשים פנים אל פנים במכון ויצמן | יום שלישי\, 23.6.26 | 09:00-16:00&nbsp\;<br />
&nbsp\;</p>

SUMMARY:בין מדע\, יצירתיות וקהילה: הכנס הארצי ה-32 למורי הביולוגיה יוצא לדרך!
TRANSP:TRANSPARENT
END:VEVENT
END:VCALENDAR