BEGIN:VCALENDAR
VERSION:2.0
PRODID:-//hacksw/handcal//NONSGML v1.0//EN
CALSCALE:GREGORIAN
BEGIN:VEVENT
DTSTART;TZID="Asia/Jerusalem":20260623T090000
DTEND;TZID="Asia/Jerusalem":20260623T090000
LOCATION:
DESCRIPTION:<p>Join us for the annual flagship event of the biology teaching community at the Weizmann Institute of Science. This year\, we invite you to a day dedicated to pedagogical innovation\, professional inspiration\, and communal pride.<br />
The conference will open with a captivating keynote by Prof. Tsachi Pilpel from the Department of Molecular Genetics \, who will present exciting breakthroughs and updates in genetics and epigenetics\, specifically tailored to the new curriculum.<br />
<br />
At the heart of the day are eight remarkable &quot\;Teacher-to-Teacher&quot\; sessions.<br />
This is a unique opportunity to explore creative grassroots initiatives and acquire practical tools for the classroom. Highlights include:</p>

<ul>
	<li>AI in the Service of Educators: Leveraging Artificial Intelligence to save time and streamline content creation.</li>
	<li>Gamification in Biology: Interactive escape rooms\, apps\, and card games.</li>
	<li>&quot\;Concept Cracking&quot\; (Pitzuchim): Innovative methods for teaching complex biological concepts.</li>
	<li>Biology in the Headlines: Connecting the curriculum to current events and breaking news.</li>
	<li>Out-of-the-Box Teaching: Experiments and inquiry using accessible materials without the need for complex lab equipment\, and more.</li>
</ul>

<p><br />
In addition to the professional sessions\, the conference will feature an exhibition of teaching materials and laboratory equipment\, a meeting with the National Biology Supervisor\, Dr. Irit Sadeh \, and award ceremonies honoring outstanding teachers.<br />
We will conclude the day with an extraordinary multidisciplinary experience: a musical-scientific lecture by Dr. Yair Pozniak\, titled &quot\;When Darwin Meets Lennon&quot\;.<br />
Location: Weizmann Institute of Science (In-person) Date: Tuesday\, June 23\, 2026 Time: 09:00 &ndash\; 16:00&nbsp\;</p>

SUMMARY:Bridging Science\, Creativity\, and Community: The 32nd National Biology Teachers' Conference is Underway!
TRANSP:TRANSPARENT
END:VEVENT
END:VCALENDAR