BEGIN:VCALENDAR
VERSION:2.0
PRODID:-//hacksw/handcal//NONSGML v1.0//EN
CALSCALE:GREGORIAN
BEGIN:VEVENT
DTSTART:20260525T110000Z
DTEND:20260525T121500Z
UID:69ea3df6810fd
DTSTAMP:20260423T184246Z
LOCATION:Gerhard M.J. Schmidt Lecture Hall
GEO:31.90575;34.80974
DESCRIPTION:Prof. Felix Ritort
SUMMARY:Chemistry colloquium
END:VEVENT
END:VCALENDAR