BEGIN:VCALENDAR
VERSION:2.0
PRODID:-//hacksw/handcal//NONSGML v1.0//EN
CALSCALE:GREGORIAN
BEGIN:VEVENT
DTSTART:20260615T110000Z
DTEND:20260615T121500Z
UID:69ea12ece0c8b
DTSTAMP:20260423T153908Z
LOCATION:Gerhard M.J. Schmidt Lecture Hall
GEO:31.90575;34.80974
DESCRIPTION:Prof. Samuel I. Stupp
SUMMARY:Chemistry colloquium
END:VEVENT
END:VCALENDAR