BEGIN:VCALENDAR
VERSION:2.0
PRODID:-//Devision Information System//Courses
METHOD:PUBLISH
BEGIN:VEVENT
UID:cbde26315b5bbab71254703339d9344e@weizmann.ac.il
DTSTAMP:20260419T174603Z
DTSTART:20260415T093000
DTEND:20260415T124500
SUMMARY:Canva AI #1
END:VEVENT
BEGIN:VEVENT
UID:1856070478e4a9c2e52f4c5265bb4881@weizmann.ac.il
DTSTAMP:20260419T174603Z
DTSTART:20260420T093000
DTEND:20260420T124500
SUMMARY:Canva AI #2
END:VEVENT
BEGIN:VEVENT
UID:cd680266befb5feabac6e6755ec74306@weizmann.ac.il
DTSTAMP:20260419T174603Z
DTSTART:20260429T093000
DTEND:20260429T124500
SUMMARY:Canva AI #3
END:VEVENT
END:VCALENDAR