BEGIN:VCALENDAR
VERSION:2.0
PRODID:-//Devision Information System//Courses
METHOD:PUBLISH
BEGIN:VEVENT
UID:ce3320195271c9c05e7f94ed73f31288@weizmann.ac.il
DTSTAMP:20260419T221846Z
DTSTART:20260531T094500
DTEND:20260531T130000
SUMMARY:Illustrator #1
END:VEVENT
BEGIN:VEVENT
UID:914bcd2c93755e6ba569435cca50042f@weizmann.ac.il
DTSTAMP:20260419T221846Z
DTSTART:20260607T094500
DTEND:20260607T130000
SUMMARY:Illustrator #2
END:VEVENT
BEGIN:VEVENT
UID:504ea117815369717ad2d8e7a0f3a460@weizmann.ac.il
DTSTAMP:20260419T221846Z
DTSTART:20260614T094500
DTEND:20260614T130000
SUMMARY:Illustrator #3
END:VEVENT
BEGIN:VEVENT
UID:b31972ff26c9b07d27514040c037fcd8@weizmann.ac.il
DTSTAMP:20260419T221846Z
DTSTART:20260628T094500
DTEND:20260628T130000
SUMMARY:Illustrator #5
END:VEVENT
BEGIN:VEVENT
UID:144518b94a198e08bbd6d018bd4f5f21@weizmann.ac.il
DTSTAMP:20260419T221846Z
DTSTART:20260705T094500
DTEND:20260705T130000
SUMMARY:Illustrator #6
END:VEVENT
END:VCALENDAR