BEGIN:VCALENDAR
VERSION:2.0
PRODID:-//hacksw/handcal//NONSGML v1.0//EN
CALSCALE:GREGORIAN
BEGIN:VEVENT
DTSTART:20110201T093000Z
DTEND:20110201T093000Z
UID:e10428
DTSTAMP:20260424T024011Z
LOCATION:Jacob Ziskind Building
DESCRIPTION:Response fluctuations in neurons and networks
SUMMARY:Response fluctuations in neurons and networks
END:VEVENT
END:VCALENDAR