BEGIN:VCALENDAR
VERSION:2.0
PRODID:-//hacksw/handcal//NONSGML v1.0//EN
CALSCALE:GREGORIAN
BEGIN:VEVENT
DTSTART:20110308T073000Z
DTEND:20110308T083000Z
UID:e10533
DTSTAMP:20260421T180755Z
LOCATION:
DESCRIPTION:"IIA perspective on cascading gauge theories''
SUMMARY:"IIA perspective on cascading gauge theories''
END:VEVENT
END:VCALENDAR