BEGIN:VCALENDAR
VERSION:2.0
PRODID:-//hacksw/handcal//NONSGML v1.0//EN
CALSCALE:GREGORIAN
BEGIN:VEVENT
DTSTART:20120207T070000Z
DTEND:20120207T070000Z
UID:e11123
DTSTAMP:20260422T182616Z
LOCATION:Wolfson Building for Biological Research
DESCRIPTION:&#8220\;The sea-anemone Nematostella as a model animal for the evolution of signaling pathways&#8221\;  
SUMMARY:&#8220\;The sea-anemone Nematostella as a model animal for the evolution of signaling pathways&#8221\;  
END:VEVENT
END:VCALENDAR