BEGIN:VCALENDAR
VERSION:2.0
PRODID:-//hacksw/handcal//NONSGML v1.0//EN
CALSCALE:GREGORIAN
BEGIN:VEVENT
DTSTART:20120529T070000Z
DTEND:20120529T070000Z
UID:e11125
DTSTAMP:20260425T070926Z
LOCATION:Wolfson Building for Biological Research
DESCRIPTION:The epigenetics of genome dynamics
SUMMARY:The epigenetics of genome dynamics
END:VEVENT
END:VCALENDAR