BEGIN:VCALENDAR
VERSION:2.0
PRODID:-//hacksw/handcal//NONSGML v1.0//EN
CALSCALE:GREGORIAN
BEGIN:VEVENT
DTSTART:20111024T070000Z
DTEND:20111024T100000Z
UID:e11165
DTSTAMP:20260424T050113Z
LOCATION:Harry Levine Family Building
DESCRIPTION:Bioinformatics Tool of The Month:  Raw Illumina next generation sequencing data files and quality control 
SUMMARY:Bioinformatics Tool of The Month:  Raw Illumina next generation sequencing data files and quality control 
END:VEVENT
END:VCALENDAR