BEGIN:VCALENDAR
VERSION:2.0
PRODID:-//hacksw/handcal//NONSGML v1.0//EN
CALSCALE:GREGORIAN
BEGIN:VEVENT
DTSTART:20111107T114500Z
DTEND:20111107T124500Z
UID:e11272
DTSTAMP:20260421T180719Z
LOCATION:Edna and K.B. Weissman Building of Physical Sciences
DESCRIPTION:Probing Spin Structure at Jefferson Lab
SUMMARY:Probing Spin Structure at Jefferson Lab
END:VEVENT
END:VCALENDAR