BEGIN:VCALENDAR
VERSION:2.0
PRODID:-//hacksw/handcal//NONSGML v1.0//EN
CALSCALE:GREGORIAN
BEGIN:VEVENT
DTSTART:20111123T090000Z
DTEND:20111123T090000Z
UID:e11344
DTSTAMP:20260423T183824Z
LOCATION:Arthur and Rochelle Belfer Building for Biomedical Research
DESCRIPTION:Stem Cell Signatures and Developmental Optimality in the Mouse Intestine
SUMMARY:Stem Cell Signatures and Developmental Optimality in the Mouse Intestine
END:VEVENT
END:VCALENDAR