BEGIN:VCALENDAR
VERSION:2.0
PRODID:-//hacksw/handcal//NONSGML v1.0//EN
CALSCALE:GREGORIAN
BEGIN:VEVENT
DTSTART:20111122T093000Z
DTEND:20111122T093000Z
UID:e11421
DTSTAMP:20260420T054903Z
LOCATION:Gerhard M.J. Schmidt Lecture Hall
DESCRIPTION:Clinical Brain Profiling and Neuroscientific Psychiatry
SUMMARY:Clinical Brain Profiling and Neuroscientific Psychiatry
END:VEVENT
END:VCALENDAR