BEGIN:VCALENDAR
VERSION:2.0
PRODID:-//hacksw/handcal//NONSGML v1.0//EN
CALSCALE:GREGORIAN
BEGIN:VEVENT
DTSTART:20120306T173000Z
DTEND:20120306T173000Z
UID:e11811
DTSTAMP:20260419T231628Z
LOCATION:Michael Sela Auditorium
DESCRIPTION:A Greek Love Story
SUMMARY:A Greek Love Story
END:VEVENT
END:VCALENDAR