BEGIN:VCALENDAR
VERSION:2.0
PRODID:-//hacksw/handcal//NONSGML v1.0//EN
CALSCALE:GREGORIAN
BEGIN:VEVENT
DTSTART:20120313T173000Z
DTEND:20120313T173000Z
UID:e11812
DTSTAMP:20260419T112310Z
LOCATION:Michael Sela Auditorium
DESCRIPTION:"La Mandragola" 
SUMMARY:"La Mandragola" 
END:VEVENT
END:VCALENDAR