BEGIN:VCALENDAR
VERSION:2.0
PRODID:-//hacksw/handcal//NONSGML v1.0//EN
CALSCALE:GREGORIAN
BEGIN:VEVENT
DTSTART:20120221T101500Z
DTEND:20120221T101500Z
UID:e11838
DTSTAMP:20260424T130941Z
LOCATION:Ullmann Building of Life Sciences
DESCRIPTION:"Rethinking Glycolysis: A Perspective on the Biochemical Logic of Metabolism"
SUMMARY:"Rethinking Glycolysis: A Perspective on the Biochemical Logic of Metabolism"
END:VEVENT
END:VCALENDAR